BEGIN:VCALENDAR
PRODID:-//github.com/rianjs/ical.net//NONSGML ical.net 4.0//EN
VERSION:2.0
BEGIN:VEVENT
DESCRIPTION:Treffen der AG Verkehr des ADFC Bochum\nhttps://touren-termine
 .adfc.de/radveranstaltung/180049-ag-verkehr
DTEND:20260108T193000Z
DTSTAMP:20260420T150341Z
DTSTART:20260108T193000Z
LOCATION:Alsenstraße 27\, 44789 Bochum
SEQUENCE:0
SUMMARY:AG Verkehr
UID:2320d6b8-f1a4-4ed8-a7b2-2e530f701b92
URL:https://touren-termine.adfc.de/radveranstaltung/180049-ag-verkehr
END:VEVENT
END:VCALENDAR
