BEGIN:VCALENDAR
PRODID:-//github.com/rianjs/ical.net//NONSGML ical.net 4.0//EN
VERSION:2.0
BEGIN:VEVENT
DESCRIPTION:Wir fahren nach Wolfenbüttel und machen eine längere Pause\, u
 m den Wochenmarkt zu besuchen.\nhttps://touren-termine.adfc.de/radveranst
 altung/191922-marktbesuch-in-wolfenbuttel
DTEND:20260704T110000Z
DTSTAMP:20260423T014652Z
DTSTART:20260704T070000Z
LOCATION:Am Theater 1\, 38100 Braunschweig
SEQUENCE:0
SUMMARY:Marktbesuch in Wolfenbüttel
UID:1e40f57b-b04e-465d-b99a-92ff4043e1a7
URL:https://touren-termine.adfc.de/radveranstaltung/191922-marktbesuch-in-
 wolfenbuttel
END:VEVENT
END:VCALENDAR
