BEGIN:VCALENDAR
PRODID:-//github.com/rianjs/ical.net//NONSGML ical.net 4.0//EN
VERSION:2.0
BEGIN:VEVENT
DESCRIPTION:Um auf der Kölnroute die Umfahrung Wildberger Hütte zu erkunde
 n\, geht es durch den Hohenhainer Tunnel  nach Erdingen. Einkehr Wildenbu
 rger Hof. Rückfahrt über Kreuztal. Anmeldung bis Freitag 18.00!\nhttps://
 touren-termine.adfc.de/radveranstaltung/163314-pedelec-tagestour-erdingen
DTEND:20250419T160000Z
DTSTAMP:20260422T234320Z
DTSTART:20250419T090000Z
LOCATION:Jakob-Scheiner-Platz\, 57072 Siegen
SEQUENCE:0
SUMMARY:Pedelec Tagestour Erdingen
UID:aad79d9a-ca52-4438-8970-17607c6789dd
URL:https://touren-termine.adfc.de/radveranstaltung/163314-pedelec-tagesto
 ur-erdingen
END:VEVENT
END:VCALENDAR
