BEGIN:VCALENDAR
PRODID:-//github.com/rianjs/ical.net//NONSGML ical.net 4.0//EN
VERSION:2.0
BEGIN:VEVENT
DESCRIPTION:Vom Fredenbaum über Mengede zum Datteln-Hamm-Kanal.  Am Kanal 
 entlang bis zum Preussen Hafen. Cafe Pause am Hafen. Am Seseke Radweg ent
 lang\, über den NRW Radweg bis  Westik.\nhttps://touren-termine.adfc.de/r
 adveranstaltung/169398--preussen-hafen-uber-waltrop
DTEND:20251125T160000Z
DTSTAMP:20260421T114805Z
DTSTART:20251125T090000Z
LOCATION:Klinikzentrum Nord\, Schützenstr./Beethovenstr.\, 44147 Dortmund
SEQUENCE:0
SUMMARY: Preussen Hafen über Waltrop
UID:c3314ecf-8d75-4c8f-8bc5-6d7363f0b794
URL:https://touren-termine.adfc.de/radveranstaltung/169398--preussen-hafen
 -uber-waltrop
END:VEVENT
END:VCALENDAR
