BEGIN:VCALENDAR
PRODID:-//github.com/rianjs/ical.net//NONSGML ical.net 4.0//EN
VERSION:2.0
BEGIN:VEVENT
DESCRIPTION:Wanderung vom Bhf. Briesen (ODEG). Umrundung des Petersdorfer-
  und des Madlitzer Sees. Länge 18 km. Keine Ausstiegsmöglichkeit. Keine F
 ahrräder.\nhttps://touren-termine.adfc.de/radveranstaltung/120348-und-wir
 -bewegen-uns-doch-wanderung
DTEND:20240128T163000Z
DTSTAMP:20260424T231217Z
DTSTART:20240128T080000Z
LOCATION:Bhf. Zoologischer Garten\, Gleis 2\, 10623 Berlin
SEQUENCE:0
SUMMARY:Und wir bewegen uns doch - WANDERUNG
UID:3cc07a45-9881-4423-a077-f5258d07a94e
URL:https://touren-termine.adfc.de/radveranstaltung/120348-und-wir-bewegen
 -uns-doch-wanderung
END:VEVENT
END:VCALENDAR
