BEGIN:VCALENDAR
PRODID:-//github.com/rianjs/ical.net//NONSGML ical.net 4.0//EN
VERSION:2.0
BEGIN:VEVENT
DESCRIPTION:Feierabendtouren in die nähere Umgebung\, Distanz 20 - 30 km\,
  oft mit Einkehr.\nhttps://touren-termine.adfc.de/radveranstaltung/152570
 -gilchinger-feierabendtour-herbst
DTEND:20251003T170000Z
DTSTAMP:20260425T145459Z
DTSTART:20251003T140000Z
LOCATION:Marktplatz\, 82205 Gilching
SEQUENCE:0
SUMMARY:Gilchinger Feierabendtour Herbst
UID:bb4b4cd3-4dbd-48a0-ba33-b9bfffc54c8a
URL:https://touren-termine.adfc.de/radveranstaltung/152570-gilchinger-feie
 rabendtour-herbst
END:VEVENT
END:VCALENDAR
