BEGIN:VCALENDAR
PRODID:-//github.com/rianjs/ical.net//NONSGML ical.net 4.0//EN
VERSION:2.0
BEGIN:VEVENT
DESCRIPTION:Einmal im Monat bieten wir eine flotte Feierabendtour für alle
  Frauen an\, die Bewegung\, frische Luft und nette Gesellschaft suchen. D
 amit bieten wir erstmals eine Tour am Montag.\nhttps://touren-termine.adf
 c.de/radveranstaltung/181978-flotte-frauen-fahrt
DTEND:20260706T180000Z
DTSTAMP:20260421T101253Z
DTSTART:20260706T153000Z
LOCATION:ADFC Infoladen Ziegelhofstraße 97\, 26121 Oldenburg\, 26121 Olden
 burg
SEQUENCE:0
SUMMARY:Flotte Frauen Fahrt
UID:f679547c-9ba7-4d8c-b22d-325d95726104
URL:https://touren-termine.adfc.de/radveranstaltung/181978-flotte-frauen-f
 ahrt
END:VEVENT
END:VCALENDAR
