BEGIN:VCALENDAR
PRODID:-//github.com/rianjs/ical.net//NONSGML ical.net 4.0//EN
VERSION:2.0
BEGIN:VEVENT
DESCRIPTION:Dienstags & Donnerstags zwischen 18:00 und 20:00 Uhr kann dort
  jeder\, sein Fahrrad eigenverantwortlich selbst reparieren - wenn nötig 
 unter Anleitung oder Mithilfe unsere Werkstattteams\nhttps://touren-termi
 ne.adfc.de/radveranstaltung/155513-selbsthilfewerkstatt-ist-geoffnet
DTEND:20251206T190000Z
DTSTAMP:20260424T150637Z
DTSTART:20250311T170000Z
LOCATION:ADFC-Selbsthilfewerkstatt\, Weinweg 6\, 93049 Regensburg
SEQUENCE:0
SUMMARY:Selbsthilfewerkstatt ist geöffnet
UID:264a0f4a-19d3-4c68-a6f7-4eb37866b071
URL:https://touren-termine.adfc.de/radveranstaltung/155513-selbsthilfewerk
 statt-ist-geoffnet
END:VEVENT
END:VCALENDAR
