BEGIN:VCALENDAR
PRODID:-//github.com/rianjs/ical.net//NONSGML ical.net 4.0//EN
VERSION:2.0
BEGIN:VEVENT
DESCRIPTION:Feierabendtouren in die nähere Umgebung\, Distanz 20 - 30 km\,
  oft mit Einkehr.\nhttps://touren-termine.adfc.de/radveranstaltung/187681
 -gilchinger-feierabendtour
DTEND:20260724T180000Z
DTSTAMP:20260425T145607Z
DTSTART:20260724T150000Z
LOCATION:Marktplatz\, 82205 Gilching
SEQUENCE:0
SUMMARY:Gilchinger Feierabendtour
UID:e7c5e0cc-3882-4717-9f98-8f90d9ed38f6
URL:https://touren-termine.adfc.de/radveranstaltung/187681-gilchinger-feie
 rabendtour
END:VEVENT
END:VCALENDAR
