BEGIN:VCALENDAR
PRODID:-//github.com/rianjs/ical.net//NONSGML ical.net 4.0//EN
VERSION:2.0
BEGIN:VEVENT
DESCRIPTION:Mahndorf-Achim-Ottersberg... so könnte die D15 zusammen mit de
 m Schnellradweg in Niedersachsen die aktive Mobilität ins Rollen bringen.
  Mitfahren\, mitdenken\, mitdiskutieren.\nhttps://touren-termine.adfc.de/
 radveranstaltung/132109-best-of-umzu-per-rad-die-azweiotour-tag-1
DTEND:20240524T170000Z
DTSTAMP:20260419T201442Z
DTSTART:20240524T120000Z
LOCATION:Mahndorfer Landstraße\, 28307 Bremen
SEQUENCE:0
SUMMARY:Best of umzu per Rad - die AzweiO-Tour Tag 1
UID:e406001d-00ea-4bc9-8fe9-238452e28f58
URL:https://touren-termine.adfc.de/radveranstaltung/132109-best-of-umzu-pe
 r-rad-die-azweiotour-tag-1
END:VEVENT
END:VCALENDAR
