BEGIN:VCALENDAR
PRODID:-//github.com/rianjs/ical.net//NONSGML ical.net 4.0//EN
VERSION:2.0
BEGIN:VEVENT
DESCRIPTION:Der Radlertreff ist das Angebot an unsere Solinger Mitglieder 
 und ihre Freunde mit uns und interessanten Ansprechpartnern ins Gespräch 
 zu kommen.\nhttps://touren-termine.adfc.de/radveranstaltung/135176-radler
 treff-solingen-bergischer-bruckenschlag
DTEND:20241029T200000Z
DTSTAMP:20260421T172648Z
DTSTART:20241029T183000Z
LOCATION:Locher Straße 17\, 42719 Solingen
SEQUENCE:0
SUMMARY:Radlertreff Solingen - Bergischer Brückenschlag
UID:fab90616-d920-45f7-98fa-3b29df33b5e5
URL:https://touren-termine.adfc.de/radveranstaltung/135176-radlertreff-sol
 ingen-bergischer-bruckenschlag
END:VEVENT
END:VCALENDAR
