BEGIN:VCALENDAR
PRODID:-//github.com/rianjs/ical.net//NONSGML ical.net 4.0//EN
VERSION:2.0
BEGIN:VEVENT
DESCRIPTION:Lockere Feierabendtour mit Eisdiele\nhttps://touren-termine.ad
 fc.de/radveranstaltung/196957-nordwestrunde
DTEND:20260528T190000Z
DTSTAMP:20260421T100715Z
DTSTART:20260528T160000Z
LOCATION:Bike & Ride Fahrradparkhaus\, 85221 Dachau
SEQUENCE:0
SUMMARY:Nordwestrunde
UID:219f59c4-0ebb-4ade-be83-b0d1f1466598
URL:https://touren-termine.adfc.de/radveranstaltung/196957-nordwestrunde
END:VEVENT
END:VCALENDAR
