BEGIN:VCALENDAR
PRODID:-//github.com/rianjs/ical.net//NONSGML ical.net 4.0//EN
VERSION:2.0
BEGIN:VEVENT
DESCRIPTION:Der Höhenweg ist von so sentimentaler Schönheit\, dass es sich
  lohnt\, ein paar mehr Kilometer auf offiziellen Straßen zu fahren.\nhttp
 s://touren-termine.adfc.de/radveranstaltung/130447-feierabendtour-siegen-
 breitenbachertalhohenweg
DTEND:20240507T173000Z
DTSTAMP:20260422T234555Z
DTSTART:20240507T160000Z
LOCATION:Jakob-Scheiner-Platz\, 57072 Siegen
SEQUENCE:0
SUMMARY:Feierabendtour Siegen: Breitenbachertalhöhenweg
UID:795d4ee1-f98e-456e-9b15-58c0a0eeb8f1
URL:https://touren-termine.adfc.de/radveranstaltung/130447-feierabendtour-
 siegen-breitenbachertalhohenweg
END:VEVENT
END:VCALENDAR
