BEGIN:VCALENDAR
PRODID:-//github.com/rianjs/ical.net//NONSGML ical.net 4.0//EN
VERSION:2.0
BEGIN:VEVENT
DESCRIPTION:Alle Mitglieder*innen und interessierte Bürger*innen sind herz
 lich eingeladen.\nBesprochen werden aktuelle Radthemen\, sowie die erfolg
 ten und geplanten Touren.\nhttps://touren-termine.adfc.de/radveranstaltun
 g/172871-treffen-der-oranienburger-ortsgruppe
DTEND:20251105T190000Z
DTSTAMP:20260425T200559Z
DTSTART:20251105T170000Z
LOCATION:Altstadtklause\, Havelstr. 16\, 16515 Oranienburg
SEQUENCE:0
SUMMARY:Treffen der Oranienburger Ortsgruppe
UID:686fcb43-fcec-403c-99dc-c235f0643fac
URL:https://touren-termine.adfc.de/radveranstaltung/172871-treffen-der-ora
 nienburger-ortsgruppe
END:VEVENT
END:VCALENDAR
