BEGIN:VCALENDAR
PRODID:-//github.com/rianjs/ical.net//NONSGML ical.net 4.0//EN
VERSION:2.0
BEGIN:VEVENT
DESCRIPTION:Die Stadtteilgruppe Lichtenberg trifft sich jeden 1. Donnersta
 g im Monat.\nFahrradinteressierte aus Lichtenberg\, die mehr über unsere 
 Arbeit erfahren bzw. mitmachen möchten\, sind herzlich willkommen.\nhttps
 ://touren-termine.adfc.de/radveranstaltung/146804-treffen-der-stadtteilgr
 uppe-lichtenberg
DTEND:20250306T200000Z
DTSTAMP:20260420T120055Z
DTSTART:20250306T180000Z
LOCATION:Liebenwalder Straße 12 - 16\, 13055 Berlin
SEQUENCE:0
SUMMARY:Treffen der Stadtteilgruppe Lichtenberg
UID:082d1dd9-5eeb-4a05-9c32-797ce53ac2fb
URL:https://touren-termine.adfc.de/radveranstaltung/146804-treffen-der-sta
 dtteilgruppe-lichtenberg
END:VEVENT
END:VCALENDAR
