BEGIN:VCALENDAR
PRODID:-//github.com/rianjs/ical.net//NONSGML ical.net 4.0//EN
VERSION:2.0
BEGIN:VEVENT
DESCRIPTION:Unsere Radtour führt uns zu verschiedenen noch handwerklich pr
 oduzierenden Bäckerbetrieben\nhttps://touren-termine.adfc.de/radveranstal
 tung/191394-zu-den-letzten-ihrer-art-brothandwerk-i
DTEND:20260424T120000Z
DTSTAMP:20260423T134108Z
DTSTART:20260424T080000Z
LOCATION:Hauptmarkt Nürnberg\, Schöner Brunnen\, 90403 Nürnberg
SEQUENCE:0
SUMMARY:Zu den letzten Ihrer Art - BROTHANDWERK  I
UID:884c4d2d-db74-4404-bf08-a5fa3be0ba29
URL:https://touren-termine.adfc.de/radveranstaltung/191394-zu-den-letzten-
 ihrer-art-brothandwerk-i
END:VEVENT
END:VCALENDAR
