BEGIN:VCALENDAR
PRODID:-//github.com/rianjs/ical.net//NONSGML ical.net 4.0//EN
VERSION:2.0
BEGIN:VEVENT
DESCRIPTION:Nur mit Anmeldung! Mit dem 🚲 zum Sommerfest im alten (längst 
 stillgelegten) Kalkbrennofen im Willy-Spahn-Park in Ahlem. Radtour 25 km.
 \nhttps://touren-termine.adfc.de/radveranstaltung/135198-sommerfest-im-wi
 llyspahnpark
DTEND:20250628T160000Z
DTSTAMP:20260424T173211Z
DTSTART:20250628T110000Z
LOCATION:Rathaus /Post / Marktplatz\, 30853 Langenhagen
SEQUENCE:0
SUMMARY:Sommerfest im Willy-Spahn-ParkⓇⓌ
UID:87c63ce0-00c2-404d-a878-e53bc19999f3
URL:https://touren-termine.adfc.de/radveranstaltung/135198-sommerfest-im-w
 illyspahnpark
END:VEVENT
END:VCALENDAR
