BEGIN:VCALENDAR
PRODID:-//github.com/rianjs/ical.net//NONSGML ical.net 4.0//EN
VERSION:2.0
BEGIN:VEVENT
DESCRIPTION:Vor dem Radlerstammtisch treffen sich die Aktiven und die Vors
 tandschaft.\nhttps://touren-termine.adfc.de/radveranstaltung/174099-aktiv
 entreff
DTEND:20261105T180000Z
DTSTAMP:20260419T155728Z
DTSTART:20261105T170000Z
LOCATION:Gasthaus Belfort\, Mindelheimer Straße 35\, 87600 Kaufbeuren
SEQUENCE:0
SUMMARY:Aktiventreff
UID:15b36353-4a7d-4ee8-a648-dd1e6b8d3bae
URL:https://touren-termine.adfc.de/radveranstaltung/174099-aktiventreff
END:VEVENT
END:VCALENDAR
