BEGIN:VCALENDAR
PRODID:-//github.com/rianjs/ical.net//NONSGML ical.net 4.0//EN
VERSION:2.0
BEGIN:VEVENT
DESCRIPTION:Radtour nördlich des Naturparks Stromberg-Heuchelberg\nhttps:/
 /touren-termine.adfc.de/radveranstaltung/160435-von-heilbronn-uber-walldo
 rf-nach-bruchsal
DTEND:20250529T150000Z
DTSTAMP:20260424T144530Z
DTSTART:20250529T065000Z
LOCATION:Karoline-Kaulla-Weg\, 70173 Stuttgart
SEQUENCE:0
SUMMARY:Von Heilbronn über Walldorf nach Bruchsal
UID:5d8c0639-415e-401e-a764-cd7007b7afac
URL:https://touren-termine.adfc.de/radveranstaltung/160435-von-heilbronn-u
 ber-walldorf-nach-bruchsal
END:VEVENT
END:VCALENDAR
