BEGIN:VCALENDAR
PRODID:-//github.com/rianjs/ical.net//NONSGML ical.net 4.0//EN
VERSION:2.0
BEGIN:VEVENT
DESCRIPTION:Interessierte Fahrradfreunde sind zum Aktiventreffen herzlich 
 willkommen!\nhttps://touren-termine.adfc.de/radveranstaltung/149914-adfc-
 aktiventreffen
DTEND:20250918T183000Z
DTSTAMP:20260420T150632Z
DTSTART:20250918T163000Z
LOCATION:Alsenstraße 27\, 44789 Bochum
SEQUENCE:0
SUMMARY:ADFC Aktiventreffen
UID:077808e6-f9d4-40d1-8ac0-0ded7855966e
URL:https://touren-termine.adfc.de/radveranstaltung/149914-adfc-aktiventre
 ffen
END:VEVENT
END:VCALENDAR
