BEGIN:VCALENDAR
PRODID:-//github.com/rianjs/ical.net//NONSGML ical.net 4.0//EN
VERSION:2.0
BEGIN:VEVENT
DESCRIPTION:Feierabendtour in sportlichem Tempo mit Anstiegen. Wir fahren 
 ca. 2\,5 Stunden durch Wald und Feld. VORAUSSETZUNG: Anmeldung\, Spaß am 
 Fahrradfahren und gute Grundkondition.\nhttps://touren-termine.adfc.de/ra
 dveranstaltung/191312-sportliche-feierabendtour
DTEND:20260909T193000Z
DTSTAMP:20260423T005455Z
DTSTART:20260909T163000Z
LOCATION:Gerberstraße 7\, 40699 Erkrath
SEQUENCE:0
SUMMARY:Sportliche Feierabendtour
UID:910df371-298a-4893-b8da-c9ea692ebca3
URL:https://touren-termine.adfc.de/radveranstaltung/191312-sportliche-feie
 rabendtour
END:VEVENT
END:VCALENDAR
