BEGIN:VCALENDAR
PRODID:-//github.com/rianjs/ical.net//NONSGML ical.net 4.0//EN
VERSION:2.0
BEGIN:VEVENT
DESCRIPTION:Von der blauen Brücke über Coppenbrügge\, Salzhemmendorf und W
 allensen zum Bruchsee. Einkehr im Waldhotel Humboldt\, Rückkehr über Copp
 enbrügge nach Hameln.\nhttps://touren-termine.adfc.de/radveranstaltung/18
 0408-von-hameln-zum-bruchsee
DTEND:20260829T160000Z
DTSTAMP:20260423T140600Z
DTSTART:20260829T080000Z
LOCATION:Sudetenstraße 1\, 31785 Hameln
SEQUENCE:0
SUMMARY:Von Hameln zum Bruchsee
UID:c90f7e45-2d30-474c-b180-48e8a88d8cb4
URL:https://touren-termine.adfc.de/radveranstaltung/180408-von-hameln-zum-
 bruchsee
END:VEVENT
END:VCALENDAR
