BEGIN:VCALENDAR
PRODID:-//github.com/rianjs/ical.net//NONSGML ical.net 4.0//EN
VERSION:2.0
BEGIN:VEVENT
DESCRIPTION:Findet nur bei trockenem Wetter statt.\nhttps://touren-termine
 .adfc.de/radveranstaltung/105797-parking-day
DTEND:20230915T150000Z
DTSTAMP:20260424T145758Z
DTSTART:20230915T090000Z
LOCATION:Parkplätze „An den Langen Ständen“ am Residenzplatz\, 87435 Kempt
 en (Allgäu)
SEQUENCE:0
SUMMARY:PARK(ing) Day
UID:9fd0289a-6a96-498b-aa76-4d1b8a550730
URL:https://touren-termine.adfc.de/radveranstaltung/105797-parking-day
END:VEVENT
END:VCALENDAR
