BEGIN:VCALENDAR
PRODID:-//github.com/rianjs/ical.net//NONSGML ical.net 4.0//EN
VERSION:2.0
BEGIN:VEVENT
DESCRIPTION:Ab Eberswalde entlang des Finowkanals zu den Schiffshebewerken
  in Niederfinow. Weite Aussichten auf die Auenlandschaft der Oder zum Zie
 l Schwedt. Ohne Anmeldung.\nhttps://touren-termine.adfc.de/radveranstaltu
 ng/171937-in-rentewas-nun-oderbruch
DTEND:20250924T164000Z
DTSTAMP:20260424T202242Z
DTSTART:20250924T061500Z
LOCATION:Bhf. Potsdamer Platz\, Gleis 3\, 10785 Berlin
SEQUENCE:0
SUMMARY:In Rente-was nun? Oderbruch
UID:34b3bb38-21ae-419e-8da3-edd100af0585
URL:https://touren-termine.adfc.de/radveranstaltung/171937-in-rentewas-nun
 -oderbruch
END:VEVENT
END:VCALENDAR
