BEGIN:VCALENDAR
PRODID:-//github.com/rianjs/ical.net//NONSGML ical.net 4.0//EN
VERSION:2.0
BEGIN:VEVENT
DESCRIPTION:Rundtour von Oranienburg über Hennigsdorf bis in den Wedding m
 it anschließender Rückfahrt über Pankow zum Ausgangspunkt\nhttps://touren
 -termine.adfc.de/radveranstaltung/172168-von-oranienburg-in-die-nordliche
 -mitte-berlins
DTEND:20250920T150000Z
DTSTAMP:20260425T231736Z
DTSTART:20250920T080000Z
LOCATION:Bahnhof\, 16515 Oranienburg
SEQUENCE:0
SUMMARY:Von Oranienburg in die nördliche Mitte Berlins
UID:3aa57036-2f3a-4943-8798-5dc87827e5bc
URL:https://touren-termine.adfc.de/radveranstaltung/172168-von-oranienburg
 -in-die-nordliche-mitte-berlins
END:VEVENT
END:VCALENDAR
