BEGIN:VCALENDAR
PRODID:-//github.com/rianjs/ical.net//NONSGML ical.net 4.0//EN
VERSION:2.0
BEGIN:VEVENT
DESCRIPTION:Dieses Angebot passt zu allen\, die nach einem Arbeitstag sich
  nochmal auslüften wollen\, die Lungen mit frischer Luft tanken und/oder 
 einfach ein bis zwei Stunden Bewegung benötigen.\nhttps://touren-termine.
 adfc.de/radveranstaltung/124786--alle-wege-fuhren-um-katzwang-feierabendr
 adtour
DTEND:20240806T174500Z
DTSTAMP:20260425T172616Z
DTSTART:20240806T161500Z
LOCATION:Lindenplatz\, 90455 Nürnberg
SEQUENCE:0
SUMMARY: Alle Wege führen um Katzwang - Feierabendradtour
UID:95035b84-062d-4be2-b21b-2dfe57fbaba0
URL:https://touren-termine.adfc.de/radveranstaltung/124786--alle-wege-fuhr
 en-um-katzwang-feierabendradtour
END:VEVENT
END:VCALENDAR
