BEGIN:VCALENDAR
PRODID:-//github.com/rianjs/ical.net//NONSGML ical.net 4.0//EN
VERSION:2.0
BEGIN:VEVENT
DESCRIPTION:Jeden Montag findet morgens eine Radtour statt.\nhttps://toure
 n-termine.adfc.de/radveranstaltung/129695-montag-morgen-tour
DTEND:20240422T100000Z
DTSTAMP:20260423T201303Z
DTSTART:20240422T080000Z
LOCATION:In der Ahe 29\, 27356 Rotenburg
SEQUENCE:0
SUMMARY:Montag Morgen Tour
UID:34993183-2454-4661-8134-945ddd15bde6
URL:https://touren-termine.adfc.de/radveranstaltung/129695-montag-morgen-t
 our
END:VEVENT
END:VCALENDAR
