BEGIN:VCALENDAR
PRODID:-//github.com/rianjs/ical.net//NONSGML ical.net 4.0//EN
VERSION:2.0
BEGIN:VEVENT
DESCRIPTION:Radfahrer*innen treffen sich anscheinend zufällig und unorgani
 siert.\nhttps://touren-termine.adfc.de/radveranstaltung/155053-critical-m
 ass-hamburg
DTEND:20250131T210000Z
DTSTAMP:20260420T230523Z
DTSTART:20250131T180000Z
LOCATION:Grete-Zabe-Weg\, 22081 Hamburg
SEQUENCE:0
SUMMARY:Critical Mass Hamburg
UID:de9da3e1-79b1-437f-ab99-7da32b577c69
URL:https://touren-termine.adfc.de/radveranstaltung/155053-critical-mass-h
 amburg
END:VEVENT
END:VCALENDAR
