BEGIN:VCALENDAR
PRODID:-//github.com/rianjs/ical.net//NONSGML ical.net 4.0//EN
VERSION:2.0
BEGIN:VEVENT
DESCRIPTION:Monatliches Treffen für alle Fahrrad-Interessenten aus Burgwed
 el und Umgebung.\nOrt: Seniorenbegnungsstätte (SBS) Großburgwedel\, Garte
 nstr. 10\nhttps://touren-termine.adfc.de/radveranstaltung/174145-offentli
 cher-radlertreff
DTEND:20260128T200000Z
DTSTAMP:20260423T183730Z
DTSTART:20260128T180000Z
LOCATION:Gartenstraße 10\, 30938 Burgwedel
SEQUENCE:0
SUMMARY:Öffentlicher Radlertreff
UID:df9a1016-b0d4-47b7-b039-65bdc9a672e2
URL:https://touren-termine.adfc.de/radveranstaltung/174145-offentlicher-ra
 dlertreff
END:VEVENT
END:VCALENDAR
