BEGIN:VCALENDAR
PRODID:-//github.com/rianjs/ical.net//NONSGML ical.net 4.0//EN
VERSION:2.0
BEGIN:VEVENT
DESCRIPTION:Es gehrt wieder lohos: Der Repair-Treff im Gemeindehaus der Zw
 ölf-Apostel-Kirche öffnet von 16 bis 18 Uhr und hilft bei Reparaturen all
 er Art. Und: Das Repair-Team freut sich auf alles\, was kommt ...\nhttps:
 //touren-termine.adfc.de/radveranstaltung/142902-externer-tipp-repairtref
 f-12-apostel-
DTEND:20250313T170000Z
DTSTAMP:20260424T173026Z
DTSTART:20250313T150000Z
LOCATION:Zwölf-Apostel: Kirche und Gemeindehaus\, Weserweg 3\, 30851 Lange
 nhagen
SEQUENCE:0
SUMMARY:Externer Tipp: "Repair-Treff 12 Apostel" ⓇⓈ
UID:b98e8386-6fab-4932-83ed-622956789781
URL:https://touren-termine.adfc.de/radveranstaltung/142902-externer-tipp-r
 epairtreff-12-apostel-
END:VEVENT
END:VCALENDAR
