BEGIN:VCALENDAR
PRODID:-//github.com/rianjs/ical.net//NONSGML ical.net 4.0//EN
VERSION:2.0
BEGIN:VEVENT
DESCRIPTION:Geschwindigkeitsgruppen: Pättkes-Tour (15-18 km/h)\, Flotte To
 ur (18-21 km/h).\nZiel und Route werden beim Start bekannt gegeben.\nhttp
 s://touren-termine.adfc.de/radveranstaltung/145527-feierabendtour-rund-um
 -coesfeld-oktober
DTEND:20251027T170000Z
DTSTAMP:20260419T232426Z
DTSTART:20251027T150000Z
LOCATION:Marktplatz\, 48653 Coesfeld
SEQUENCE:0
SUMMARY:Feierabendtour rund um Coesfeld: Oktober
UID:51c19c04-dfc5-43bd-af94-9c2384457d09
URL:https://touren-termine.adfc.de/radveranstaltung/145527-feierabendtour-
 rund-um-coesfeld-oktober
END:VEVENT
END:VCALENDAR
