BEGIN:VCALENDAR
PRODID:-//github.com/rianjs/ical.net//NONSGML ical.net 4.0//EN
VERSION:2.0
BEGIN:VEVENT
DESCRIPTION:Der Mountainbikeklassiker im Naturpark Stromberg-Heuchelberg: 
 Auf wenig befahrenen Trails geht es über die Höhen des Strombergs\, von w
 o aus wir Natur und Ausblicke in die Ferne genießen.\nhttps://touren-term
 ine.adfc.de/radveranstaltung/191514-der-strombergrennweg-im-herbst
DTEND:20261018T150000Z
DTSTAMP:20260425T194229Z
DTSTART:20261018T070000Z
LOCATION:Kuhriosum (Kronenplatz)\, 74321 Bietigheim-Bissingen
SEQUENCE:0
SUMMARY:Der Stromberg-Rennweg im Herbst
UID:dd80aa67-8c01-4460-807b-ed47a7b705b5
URL:https://touren-termine.adfc.de/radveranstaltung/191514-der-strombergre
 nnweg-im-herbst
END:VEVENT
END:VCALENDAR
