BEGIN:VCALENDAR
PRODID:-//github.com/rianjs/ical.net//NONSGML ical.net 4.0//EN
VERSION:2.0
BEGIN:VEVENT
DESCRIPTION:Wir radeln gemütlich nach Roßdorf am Forst zur Mittagspause\, 
 anschliessend durch die fränkische Toskana\nnach Bamberg und zurück nach 
 Forchheim.\nhttps://touren-termine.adfc.de/radveranstaltung/137781-franki
 sche-toskana
DTEND:20240816T180000Z
DTSTAMP:20260421T100958Z
DTSTART:20240816T080000Z
LOCATION:Nürnberger Tor\, 91301 Forchheim
SEQUENCE:0
SUMMARY:Fränkische Toskana
UID:5125f174-a6a4-420f-a166-ec67743ee032
URL:https://touren-termine.adfc.de/radveranstaltung/137781-frankische-tosk
 ana
END:VEVENT
END:VCALENDAR
