BEGIN:VCALENDAR
PRODID:-//github.com/rianjs/ical.net//NONSGML ical.net 4.0//EN
VERSION:2.0
BEGIN:VEVENT
DESCRIPTION:Der VCD Bergisches Land veranstaltet heute einen Gebrauchtfahr
 radmarkt.\nhttps://touren-termine.adfc.de/radveranstaltung/160967-vcd-geb
 rauchtradmarkt
DTEND:20250322T150000Z
DTSTAMP:20260421T204145Z
DTSTART:20250322T090000Z
LOCATION:Fronhof\, 42651 Solingen
SEQUENCE:0
SUMMARY:VCD Gebrauchtradmarkt
UID:3d937774-c840-4d96-aa00-4687abd86f23
URL:https://touren-termine.adfc.de/radveranstaltung/160967-vcd-gebrauchtra
 dmarkt
END:VEVENT
END:VCALENDAR
