BEGIN:VCALENDAR
PRODID:-//github.com/rianjs/ical.net//NONSGML ical.net 4.0//EN
VERSION:2.0
BEGIN:VEVENT
DESCRIPTION:Der ADFC Neumarkt codiert Fahrräder beim Verkehrssicherheitsta
 g\nhttps://touren-termine.adfc.de/radveranstaltung/197166-fahrradcodierun
 g-beim-verkehrssicherheitstag
DTEND:20260705T150000Z
DTSTAMP:20260424T230620Z
DTSTART:20260705T080000Z
LOCATION:Volksfestplatz\, 92318 Neumarkt in der Oberpfalz
SEQUENCE:0
SUMMARY:Fahrradcodierung beim Verkehrssicherheitstag
UID:26942481-dc61-4ac4-9081-6762d2c5371f
URL:https://touren-termine.adfc.de/radveranstaltung/197166-fahrradcodierun
 g-beim-verkehrssicherheitstag
END:VEVENT
END:VCALENDAR
