BEGIN:VCALENDAR
PRODID:-//github.com/rianjs/ical.net//NONSGML ical.net 4.0//EN
VERSION:2.0
BEGIN:VEVENT
DESCRIPTION:Tagestour ab Wennigsen\, Anfahrt mit der S-Bahn S 5. Auf einer
  70 km langen Strecke durchqueren wir das malerische Weserbergland und be
 suchen Detmold und sein sehenswertes Freilichtmuseum.\nhttps://touren-ter
 mine.adfc.de/radveranstaltung/195577-besuch-des-lwlfreilichtmuseums-detmo
 ld
DTEND:20260620T180000Z
DTSTAMP:20260421T102907Z
DTSTART:20260620T063000Z
LOCATION:Bönnigser Straße 1\, 30974 Wennigsen (Deister)
SEQUENCE:0
SUMMARY:Besuch des LWL-Freilichtmuseums Detmold
UID:c8a0ef06-ecc5-4b92-a034-f380d95108db
URL:https://touren-termine.adfc.de/radveranstaltung/195577-besuch-des-lwlf
 reilichtmuseums-detmold
END:VEVENT
END:VCALENDAR
