BEGIN:VCALENDAR
PRODID:-//github.com/rianjs/ical.net//NONSGML ical.net 4.0//EN
VERSION:2.0
BEGIN:VEVENT
DESCRIPTION:Wir fahren über die Balkantrasse bis Hilgen\, runter an die Se
 ngbachtalsperre\, hoch bis Oberburg. Von dort zur Müngstener Brücke. \nZu
 rück gehts entlang der Wupper durch die Wipperaue und Leichlingen.\nhttps
 ://touren-termine.adfc.de/radveranstaltung/186472-ohne-sturz-zum-ritterst
 urz
DTEND:20261010T150000Z
DTSTAMP:20260419T155000Z
DTSTART:20261010T080000Z
LOCATION:Freiherr-vom-Stein-Straße 5a\, 51379 Leverkusen
SEQUENCE:0
SUMMARY:Ohne Sturz zum Rittersturz
UID:c86c10ca-9cf7-4179-8844-89b67b2d19d8
URL:https://touren-termine.adfc.de/radveranstaltung/186472-ohne-sturz-zum-
 rittersturz
END:VEVENT
END:VCALENDAR
