BEGIN:VCALENDAR
PRODID:-//github.com/rianjs/ical.net//NONSGML ical.net 4.0//EN
VERSION:2.0
BEGIN:VEVENT
DESCRIPTION:Jeden Montag findet morgens eine Radtour statt.\nhttps://toure
 n-termine.adfc.de/radveranstaltung/158191-montag-morgen-tour
DTEND:20250428T100000Z
DTSTAMP:20260423T200936Z
DTSTART:20250428T080000Z
LOCATION:In der Ahe 29\, 27356 Rotenburg
SEQUENCE:0
SUMMARY:Montag Morgen Tour
UID:04d0885e-b5b3-41d4-9ed1-f025d40f83b8
URL:https://touren-termine.adfc.de/radveranstaltung/158191-montag-morgen-t
 our
END:VEVENT
END:VCALENDAR
