BEGIN:VCALENDAR
PRODID:-//github.com/rianjs/ical.net//NONSGML ical.net 4.0//EN
VERSION:2.0
BEGIN:VEVENT
DESCRIPTION:Alle Mitglieder*innen und interessierte Bürger*innen sind herz
 lich eingeladen.\nBesprochen werden aktuelle Radthemen\, sowie die erfolg
 ten und geplanten Touren.\nhttps://touren-termine.adfc.de/radveranstaltun
 g/158555-treffen-der-oranienburger-ortsgruppe
DTEND:20250319T190000Z
DTSTAMP:20260425T201100Z
DTSTART:20250319T170000Z
LOCATION:Altstadtklause\, Havelstr. 16\, 16515 Oranienburg
SEQUENCE:0
SUMMARY:Treffen der Oranienburger Ortsgruppe
UID:d9d3a9b4-55c8-42af-8ace-5e46ec6e3798
URL:https://touren-termine.adfc.de/radveranstaltung/158555-treffen-der-ora
 nienburger-ortsgruppe
END:VEVENT
END:VCALENDAR
