BEGIN:VCALENDAR
PRODID:-//github.com/rianjs/ical.net//NONSGML ical.net 4.0//EN
VERSION:2.0
BEGIN:VEVENT
DESCRIPTION:Ride of Silence des ADFC Hattingen/Sprockhövel. Fahrt mit und 
 werdet Teil eines weltweiten Statements!\nhttps://touren-termine.adfc.de/
 radveranstaltung/190738-ride-of-silence
DTEND:20260520T190000Z
DTSTAMP:20260421T190542Z
DTSTART:20260520T160000Z
LOCATION:Parkplatz Holschentor\, Talstraße 8\, 45525 Hattingen
SEQUENCE:0
SUMMARY:Ride of Silence
UID:da08f2f2-c935-4a54-b74c-6fa4186b6bbd
URL:https://touren-termine.adfc.de/radveranstaltung/190738-ride-of-silence
END:VEVENT
END:VCALENDAR
