BEGIN:VCALENDAR
PRODID:-//github.com/rianjs/ical.net//NONSGML ical.net 4.0//EN
VERSION:2.0
BEGIN:VEVENT
DESCRIPTION:Mehr Sicherheit für den Radverkehr durch StVO konforme Seitena
 bstände beim Überholen durch Kraftfahrzeuge\nhttps://touren-termine.adfc.
 de/radveranstaltung/84829-projektgruppe-openbikesensor
DTEND:20231113T190000Z
DTSTAMP:20260420T230758Z
DTSTART:20231113T173000Z
LOCATION:Koppel 34-36\, 20099 Hamburg
SEQUENCE:0
SUMMARY:Projektgruppe OpenBikeSensor
UID:cb0e29f6-62b5-48e5-87c3-9a4da4007da6
URL:https://touren-termine.adfc.de/radveranstaltung/84829-projektgruppe-op
 enbikesensor
END:VEVENT
END:VCALENDAR
