BEGIN:VCALENDAR
PRODID:-//github.com/rianjs/ical.net//NONSGML ical.net 4.0//EN
VERSION:2.0
BEGIN:VEVENT
DESCRIPTION:Durch das schöne Radebachtal nach Schanze\; Erkundung des Kyri
 llpfads gemeinsam mit dem Ranger.\nhttps://touren-termine.adfc.de/radvera
 nstaltung/154873-kyrillpfad-in-schanze-mit-rangerfuhrung
DTEND:20250719T163000Z
DTSTAMP:20260423T064051Z
DTSTART:20250719T083000Z
LOCATION:Bahnhofstraße 1\, 57319 Bad Berleburg
SEQUENCE:0
SUMMARY:Kyrillpfad in Schanze mit Ranger-Führung
UID:333c2354-06f1-4d2f-a443-fb4ba54b497e
URL:https://touren-termine.adfc.de/radveranstaltung/154873-kyrillpfad-in-s
 chanze-mit-rangerfuhrung
END:VEVENT
END:VCALENDAR
