BEGIN:VCALENDAR
PRODID:-//github.com/rianjs/ical.net//NONSGML ical.net 4.0//EN
VERSION:2.0
BEGIN:VEVENT
DESCRIPTION:Radtour von Herrenberg über Mötzingen\, Ergenzingen und Rotten
 burg nach Tübingen\nhttps://touren-termine.adfc.de/radveranstaltung/18839
 8-von-herrenberg-nach-tubingen
DTEND:20260306T150000Z
DTSTAMP:20260424T144133Z
DTSTART:20260306T081500Z
LOCATION:Klett-Passage\, 70173 Stuttgart
SEQUENCE:0
SUMMARY:Von Herrenberg nach Tübingen
UID:759f374b-eacd-4c17-88be-6ed7a0948905
URL:https://touren-termine.adfc.de/radveranstaltung/188398-von-herrenberg-
 nach-tubingen
END:VEVENT
END:VCALENDAR
