BEGIN:VCALENDAR
PRODID:-//github.com/rianjs/ical.net//NONSGML ical.net 4.0//EN
VERSION:2.0
BEGIN:VEVENT
DESCRIPTION:Der Radlertreff ist das Angebot an unsere Solinger Mitglieder 
 und ihre Freunde mit uns und interessanten Ansprechpartnern ins Gespräch 
 zu kommen.\nhttps://touren-termine.adfc.de/radveranstaltung/120979-radler
 treff-solingen-april-2024-vcd-zu-gast
DTEND:20240409T190000Z
DTSTAMP:20260421T172836Z
DTSTART:20240409T173000Z
LOCATION:Locher Straße 17\, 42719 Solingen
SEQUENCE:0
SUMMARY:Radlertreff Solingen - April 2024 - VCD zu Gast
UID:7a9de7d9-dfb2-4dd3-9ba0-3a3a526e59bb
URL:https://touren-termine.adfc.de/radveranstaltung/120979-radlertreff-sol
 ingen-april-2024-vcd-zu-gast
END:VEVENT
END:VCALENDAR
