BEGIN:VCALENDAR
PRODID:-//github.com/rianjs/ical.net//NONSGML ical.net 4.0//EN
VERSION:2.0
BEGIN:VEVENT
DESCRIPTION:Gemeinsame Tour beider Kreisverbände durch die Landkreise Stad
 e und Cuxhaven von Himmelpforten über Bremervörde an der Oste entlang nac
 h Hechthausen.\nStart nach Eintreffen beider Regionalzüge.\nhttps://toure
 n-termine.adfc.de/radveranstaltung/185581-std-und-cux-gemeinsam
DTEND:20260509T140000Z
DTSTAMP:20260421T103253Z
DTSTART:20260509T080000Z
LOCATION:Am Bahnhof\, 21709 Himmelpforten
SEQUENCE:0
SUMMARY:STD und CUX gemeinsam
UID:d00989fa-f2a4-43f1-a916-cc90b994ab07
URL:https://touren-termine.adfc.de/radveranstaltung/185581-std-und-cux-gem
 einsam
END:VEVENT
END:VCALENDAR
