BEGIN:VCALENDAR
PRODID:-//github.com/rianjs/ical.net//NONSGML ical.net 4.0//EN
VERSION:2.0
BEGIN:VEVENT
DESCRIPTION:Bis zur Umstellung der Sommerzeit\, Ende Oktober\, starten wir
  jeden Dienstag um 18 Uhr vom Hildegardplatz in Kempten zu einer kleinen 
 Feierabendrunde. Wir freuen uns über alte und neue Teilnehmer.\nhttps://t
 ouren-termine.adfc.de/radveranstaltung/159638-feierabendradeln
DTEND:20250701T180000Z
DTSTAMP:20260424T150103Z
DTSTART:20250701T160000Z
LOCATION:Hildegardplatz\, 87435 Kempten (Allgäu)
SEQUENCE:0
SUMMARY:Feierabendradeln
UID:f889dacd-36b9-4bae-9092-d9cf75af3bf7
URL:https://touren-termine.adfc.de/radveranstaltung/159638-feierabendradeln
END:VEVENT
END:VCALENDAR
