BEGIN:VCALENDAR
PRODID:-//github.com/rianjs/ical.net//NONSGML ical.net 4.0//EN
VERSION:2.0
BEGIN:VEVENT
DESCRIPTION:Leichte bis mittelschwere Feierabendtour in und um Bad Cannsta
 tt\nhttps://touren-termine.adfc.de/radveranstaltung/131252-cannstatter-ab
 endtour
DTEND:20240618T190000Z
DTSTAMP:20260423T021716Z
DTSTART:20240618T163000Z
LOCATION:Sulzerrainstraße 2\, 70372 Stuttgart
SEQUENCE:0
SUMMARY:Cannstatter Abendtour
UID:f90d9422-eb25-48e3-9487-eda0616c1119
URL:https://touren-termine.adfc.de/radveranstaltung/131252-cannstatter-abe
 ndtour
END:VEVENT
END:VCALENDAR
