BEGIN:VCALENDAR
PRODID:-//github.com/rianjs/ical.net//NONSGML ical.net 4.0//EN
VERSION:2.0
BEGIN:VEVENT
DESCRIPTION:Immer mittwochs bis September.\nTreffpunkt: 18 Uhr Fansteinrau
 te im Borussia-Park\nhttps://touren-termine.adfc.de/radveranstaltung/8850
 5-adfcafterworksporttour
DTEND:20230802T180000Z
DTSTAMP:20260421T230237Z
DTSTART:20230802T160000Z
LOCATION:Fan-Raute am Borussia Park\, 41179 Mönchengladbach
SEQUENCE:0
SUMMARY:ADFC-Afterwork-Sporttour
UID:6232855e-a257-4d6d-9686-555a056e5c1b
URL:https://touren-termine.adfc.de/radveranstaltung/88505-adfcafterworkspo
 rttour
END:VEVENT
END:VCALENDAR
