BEGIN:VCALENDAR
PRODID:-//github.com/rianjs/ical.net//NONSGML ical.net 4.0//EN
VERSION:2.0
BEGIN:VEVENT
DESCRIPTION:Der Mountainbikeklassiker im Naturpark Stromberg-Heuchelberg: 
 Auf wenig befahrenen Trails über die Höhen des Strombergs\, die Natur und
  die Ausblicke in die Ferne genießen.\nhttps://touren-termine.adfc.de/rad
 veranstaltung/86727-der-strombergrennweg-im-sommer
DTEND:20230709T150000Z
DTSTAMP:20260425T193953Z
DTSTART:20230709T073000Z
LOCATION:Kuhriosum (Kronenplatz)\, 74321 Bietigheim-Bissingen
SEQUENCE:0
SUMMARY:Der Stromberg-Rennweg im Sommer
UID:0591d212-3b9b-42d6-8c5d-53ed39ef9f0b
URL:https://touren-termine.adfc.de/radveranstaltung/86727-der-strombergren
 nweg-im-sommer
END:VEVENT
END:VCALENDAR
