BEGIN:VCALENDAR
PRODID:-//github.com/rianjs/ical.net//NONSGML ical.net 4.0//EN
VERSION:2.0
BEGIN:VEVENT
DESCRIPTION:Am vierten Freitag im Monat steht unsere Ausfahrt unter dem Mo
 tto Sichtbarkeit des Radverkehrs\, Sicherheitsmängel und Schwächen der Ro
 utenführung und Beschilderung\nhttps://touren-termine.adfc.de/radveransta
 ltung/161740-kritische-tour-arfeld-richstein
DTEND:20250725T180000Z
DTSTAMP:20260423T063744Z
DTSTART:20250725T150000Z
LOCATION:Unterm Höllscheid\, 57319 Bad Berleburg
SEQUENCE:0
SUMMARY:Kritische Tour - Arfeld\, Richstein
UID:4abba68f-54a8-4319-8087-8d48598e15b5
URL:https://touren-termine.adfc.de/radveranstaltung/161740-kritische-tour-
 arfeld-richstein
END:VEVENT
END:VCALENDAR
